BEGIN:VCALENDAR
VERSION:2.0
PRODID:-//eventon.com NONSGML v1.0//EN
CALSCALE:GREGORIAN
METHOD:PUBLISH
BEGIN:VEVENT
UID:69eab9a5d38ad
DTSTAMP:20260424T003029Z
DTSTART:20261205T200000Z
DTEND:20261205T225900Z
LOCATION:Teatro Sociale\,  Mantova
SUMMARY:Le Grandi Musiche per il Cinema
DESCRIPTION:La grande musica del Cinema\,  pilastro dei più grandi capolav
 ori della settima arte\,  arriva a Mantova e sarà protagonista di una sera
 ta attraverso l&#8217;esecuzione di virtuosa formazione strumentale\,  la E
 uropean Soundtrack Orchestra diretta dal M° Walter Attanasi: un concerto s
 erale che rappresa un vero e proprio viaggio sinfonico attraverso le[..]\nh
 ttps://mantova-live.it/events/le-grandi-musiche-per-il-cinema/
URL:https://mantova-live.it/events/le-grandi-musiche-per-il-cinema/
END:VEVENT
END:VCALENDAR