BEGIN:VCALENDAR
VERSION:2.0
PRODID:-//eventon.com NONSGML v1.0//EN
CALSCALE:GREGORIAN
METHOD:PUBLISH
BEGIN:VEVENT
UID:69e62d8a9630d
DTSTAMP:20260420T134338Z
DTSTART:20261205T200000Z
DTEND:20261205T225900Z
LOCATION:Teatro Sociale\,  Mantova
SUMMARY:Disney Musical World
DESCRIPTION:L’Orchestra diretta dal M° Walter Attanasi arriva sul palco 
 del Teatro Sociale di Mantova per far sognare il pubblico di ogni età con 
 le più belle ed evocative colonne sonore dei film Disney\,  veri capolavor
 i entrati di diritto nella tradizione musicale contemporanea e diventati te
 sori di emozioni per diverse generazioni.[..]\nhttps://mantova-live.it/even
 ts/disney-musical-world/
URL:https://mantova-live.it/events/disney-musical-world/
END:VEVENT
END:VCALENDAR