BEGIN:VCALENDAR
VERSION:2.0
PRODID:-//eventon.com NONSGML v1.0//EN
CALSCALE:GREGORIAN
METHOD:PUBLISH
BEGIN:VEVENT
UID:69eab9a55e208
DTSTAMP:20260424T003029Z
DTSTART:20270417T190000Z
DTEND:20270417T215900Z
LOCATION:Teatro Sociale\,  Mantova
SUMMARY:Alessandro Bergonzoni
DESCRIPTION:Alessandro Bergonzoni torna in teatro con il suo nuovo spettaco
 lo “Arrivano i Dunque (Avannotti\,  sole Blu e la storia della giovane Sa
 racinesca)”. Un luogo scenico\,  multifunzionale\,  dove proseguire la su
 a ricerca artistica nei territori che in questi anni lo hanno visto parteci
 pare attivamente in prima persona ad avvenimenti sia artistici[..]\nhttps:/
 /mantova-live.it/alessandro-bergonzoni-17-aprile/
URL:https://mantova-live.it/alessandro-bergonzoni-17-aprile/
END:VEVENT
END:VCALENDAR