BEGIN:VCALENDAR
VERSION:2.0
PRODID:-//eventon.com NONSGML v1.0//EN
CALSCALE:GREGORIAN
METHOD:PUBLISH
BEGIN:VEVENT
UID:69eab9e43d8c1
DTSTAMP:20260424T003132Z
DTSTART:20261212T200000Z
DTEND:20261212T225900Z
LOCATION:Teatro Sociale\,  Mantova
SUMMARY:A Christmas Carol Musical
DESCRIPTION:Non un adattamento qualunque\,  ma l&#8217;unica grande produzi
 one italiana originale del celebre romanzo di Charles Dickens! Scenografia 
 mozzafiato in puro stile vittoriano\,  musiche indimenticabili che scaldano
  il cuore\,  e una storia che ha già incantato 200.000 spettatori dal debu
 tto nel 2017! La regia di Melina Pellicano\,  le musiche del M°[..]\nhttps
 ://mantova-live.it/events/a-christmas-carol-musical/
URL:https://mantova-live.it/events/a-christmas-carol-musical/
END:VEVENT
END:VCALENDAR