BEGIN:VCALENDAR
VERSION:2.0
PRODID:-//eventon.com NONSGML v1.0//EN
CALSCALE:GREGORIAN
METHOD:PUBLISH
BEGIN:VEVENT
UID:69eac8f51b5a4
DTSTAMP:20260424T013549Z
DTSTART:20260903T190000Z
DTEND:20260903T215900Z
LOCATION:Esedra di Palazzo Te\,  Mantova
SUMMARY:Enrico Brignano
DESCRIPTION:L&#8217;Esedra di Palazzo Te quest&#8217;estate alzerà il sipa
 rio per uno dei più acclamati spettacoli comici di Enrico Brignano: &#8220
 ;Bello di Mamma!&#8221; è il one-man-show con cui torneremo a quella sicur
 ezza e calore che solo le coccole materne sanno donare; il tutto ovviamente
  con lo stile unico e irresistibile di uno[..]\nhttps://mantova-live.it/enr
 ico-brignano-3-settembre/
URL:https://mantova-live.it/enrico-brignano-3-settembre/
END:VEVENT
END:VCALENDAR