BEGIN:VCALENDAR
VERSION:2.0
PRODID:-//eventon.com NONSGML v1.0//EN
CALSCALE:GREGORIAN
METHOD:PUBLISH
BEGIN:VEVENT
UID:69eab9f8b486c
DTSTAMP:20260424T003152Z
DTSTART:20270220T200000Z
DTEND:20270220T225900Z
LOCATION:Teatro Sociale\,  Mantova
SUMMARY:Osvaldo Poli
DESCRIPTION:Il Dott. Poli\,  psicologo e psicoterapeuta\,  è un punto di r
 iferimento in Italia sul tema genitorialità\,  coppia ed educazione. Attra
 verso consulenze\,  seminari e saggi\,  aiuta famiglie e genitori a costrui
 re relazioni più equilibrate\,  autorevoli e consapevoli. Con questo spett
 acolo porta sul palco del Teatro Sociale di Mantova l’”Adolescenza”\,
   da osservare[..]\nhttps://mantova-live.it/events/osvaldo-poli/
URL:https://mantova-live.it/events/osvaldo-poli/
END:VEVENT
END:VCALENDAR