BEGIN:VCALENDAR
VERSION:2.0
PRODID:-//eventon.com NONSGML v1.0//EN
CALSCALE:GREGORIAN
METHOD:PUBLISH
BEGIN:VEVENT
UID:69e5deb941ad8
DTSTAMP:20260420T080721Z
DTSTART:20261002T180000Z
DTEND:20261002T215900Z
LOCATION:PalaUnical\,  Mantova
SUMMARY:Laura Pausini
DESCRIPTION:Visto l&#8217;enorme successo nella prevendita della data zero 
 a Mantova del World Tour di Laura Pausini si annuncia oggi una seconda data
  per i fan di una delle più amate cantanti italiane nel mondo che repliche
 rà per il pubblico del PalaUnical di Mantova il giorno 2 ottobre 2026!\nht
 tps://mantova-live.it/laura-pausini-2-ottobre/
URL:https://mantova-live.it/laura-pausini-2-ottobre/
END:VEVENT
END:VCALENDAR