BEGIN:VCALENDAR
VERSION:2.0
PRODID:-//eventon.com NONSGML v1.0//EN
CALSCALE:GREGORIAN
METHOD:PUBLISH
BEGIN:VEVENT
UID:69e885069f428
DTSTAMP:20260422T082126Z
DTSTART:20260327T190000Z
DTEND:20260327T225900Z
LOCATION:PalaUnical\,  Mantova
SUMMARY:Paolo Crepet
DESCRIPTION:Che cosa accade quando il pensiero libero inizia a fare paura? 
 In un tempo che sembra premiare l’omologazione e penalizzare il dubbio\, 
  Paolo Crepet ci conduce in una riflessione profonda e provocatoria sul val
 ore dell’immaginazione\,  sull’urgenza di esercitare il pensiero critic
 o\,  sulla pericolosa illusione di libertà in cui siamo immersi.[..]\nhttp
 s://mantova-live.it/events/paolo-crepet-copy/
URL:https://mantova-live.it/events/paolo-crepet-copy/
END:VEVENT
END:VCALENDAR