BEGIN:VCALENDAR
VERSION:2.0
PRODID:-//eventon.com NONSGML v1.0//EN
CALSCALE:GREGORIAN
METHOD:PUBLISH
BEGIN:VEVENT
UID:69e8847455c21
DTSTAMP:20260422T081900Z
DTSTART:20260924T190000Z
DTEND:20260924T215900Z
LOCATION:Esedra di Palazzo Te\,  Mantova
SUMMARY:Il Volo
DESCRIPTION:Nel pieno del successo di LIVE IN CONCERT &#8211; il tour nelle
  principali capitali europee &#8211; Il Volo annuncia la quarta edizione di
  TUTTI PER UNO\,  in programma il 24\,  26 e 27 settembre 2026 nella presti
 giosa location di Palazzo Te a Mantova\,  un luogo che per la seconda volta
 [..]\nhttps://mantova-live.it/events/il-volo-4/
URL:https://mantova-live.it/events/il-volo-4/
END:VEVENT
END:VCALENDAR