BEGIN:VCALENDAR
VERSION:2.0
PRODID:-//eventon.com NONSGML v1.0//EN
CALSCALE:GREGORIAN
METHOD:PUBLISH
BEGIN:VEVENT
UID:69e4d87ea1939
DTSTAMP:20260419T132830Z
DTSTART:20260211T190000Z
DTEND:20260211T225900Z
LOCATION:PalaUnical\,  Mantova
SUMMARY:Eros Ramazzotti
DESCRIPTION:Il tour mondiale che porterà Eros Ramazzotti a riabbracciare i
 l proprio pubblico partirà con una data zero proprio al Palaunical di Mant
 ova\,  per poi volare in oltre trenta paesi tra Europa intera\,  Nord Ameri
 ca-Canada e America Latina. Un&#8217;occasione speciale\,  a oltre tre anni
  dall&#8217;ultimo progetto discografico\,  che farà riascoltare i[..]\nht
 tps://mantova-live.it/events/eros-ramazzotti/
URL:https://mantova-live.it/events/eros-ramazzotti/
END:VEVENT
END:VCALENDAR