BEGIN:VCALENDAR
VERSION:2.0
PRODID:-//eventon.com NONSGML v1.0//EN
CALSCALE:GREGORIAN
METHOD:PUBLISH
BEGIN:VEVENT
UID:69e72fbdc107c
DTSTAMP:20260421T080517Z
DTSTART:20260223T200000Z
DTEND:20260223T225900Z
LOCATION:Teatro Sociale\,  Mantova
SUMMARY:Uccio De Santis
DESCRIPTION:Il comico e cabarettista pugliese che ha fatto ridere tutta Ita
 lia con le sue storie di vita quotidiana e la sua inconfondibile ironia\,  
 vi aspetta al Teatro Sociale di Mantova con il suo nuovo esilarante spettac
 olo. PARCHEGGIO CONVENZIONATO\nhttps://mantova-live.it/events/uccio-de-sant
 is/
URL:https://mantova-live.it/events/uccio-de-santis/
END:VEVENT
END:VCALENDAR